Package: ssviz Version: 1.42.0 Command: chmod a+r ssviz -R && E:\biocbuild\bbs-3.21-bioc\R\bin\R.exe CMD build --keep-empty-dirs --no-resave-data ssviz StartedAt: 2025-08-14 22:33:24 -0400 (Thu, 14 Aug 2025) EndedAt: 2025-08-14 22:34:07 -0400 (Thu, 14 Aug 2025) EllapsedTime: 43.0 seconds RetCode: 0 Status: OK PackageFile: ssviz_1.42.0.tar.gz PackageFileSize: 1013 KiB