Package: ssviz Version: 1.42.0 Command: rm -rf ssviz.buildbin-libdir && mkdir ssviz.buildbin-libdir && E:\biocbuild\bbs-3.21-bioc\R\bin\R.exe CMD INSTALL --build --library=ssviz.buildbin-libdir ssviz_1.42.0.tar.gz StartedAt: 2025-08-15 10:24:58 -0400 (Fri, 15 Aug 2025) EndedAt: 2025-08-15 10:25:26 -0400 (Fri, 15 Aug 2025) EllapsedTime: 28.1 seconds RetCode: 0 Status: OK PackageFile: ssviz_1.42.0.zip PackageFileSize: 976.5 KiB