Package: ssrch Version: 1.24.0 Command: chmod a+r ssrch -R && E:\biocbuild\bbs-3.21-bioc\R\bin\R.exe CMD build --keep-empty-dirs --no-resave-data ssrch StartedAt: 2025-08-14 22:33:10 -0400 (Thu, 14 Aug 2025) EndedAt: 2025-08-14 22:33:30 -0400 (Thu, 14 Aug 2025) EllapsedTime: 20.2 seconds RetCode: 0 Status: OK PackageFile: ssrch_1.24.0.tar.gz PackageFileSize: 1.444 MiB