Package: ssize Version: 1.82.0 Command: E:\biocbuild\bbs-3.21-bioc\R\bin\R.exe CMD check --no-multiarch --install=check:ssize.install-out.txt --library=E:\biocbuild\bbs-3.21-bioc\R\library --no-vignettes --timings ssize_1.82.0.tar.gz StartedAt: 2025-08-15 07:28:53 -0400 (Fri, 15 Aug 2025) EndedAt: 2025-08-15 07:29:25 -0400 (Fri, 15 Aug 2025) EllapsedTime: 31.4 seconds RetCode: 0 Status: OK CheckDir: ssize.Rcheck Warnings: 0