Package: ssize Version: 1.82.0 Command: rm -rf ssize.buildbin-libdir && mkdir ssize.buildbin-libdir && /Users/biocbuild/BBS/utils/build-universal.sh ssize_1.82.0.tar.gz /Library/Frameworks/R.framework/Resources/bin/R ssize.buildbin-libdir StartedAt: 2025-10-14 14:53:57 -0400 (Tue, 14 Oct 2025) EndedAt: 2025-10-14 14:54:02 -0400 (Tue, 14 Oct 2025) EllapsedTime: 5.4 seconds RetCode: 0 Status: OK PackageFile: ssize_1.82.0.tgz PackageFileSize: 535.9 KiB