Package: ssize Version: 1.82.0 Command: /Library/Frameworks/R.framework/Resources/bin/R CMD build --keep-empty-dirs --no-resave-data ssize StartedAt: 2025-10-14 10:27:00 -0400 (Tue, 14 Oct 2025) EndedAt: 2025-10-14 10:27:11 -0400 (Tue, 14 Oct 2025) EllapsedTime: 11.2 seconds RetCode: 0 Status: OK PackageFile: ssize_1.82.0.tar.gz PackageFileSize: 545.3 KiB