Package: srnadiff Version: 1.28.0 Command: /home/biocbuild/R/R/bin/R CMD build --keep-empty-dirs --no-resave-data srnadiff StartedAt: 2025-10-14 05:07:18 -0000 (Tue, 14 Oct 2025) EndedAt: 2025-10-14 05:10:20 -0000 (Tue, 14 Oct 2025) EllapsedTime: 182.1 seconds RetCode: 0 Status: OK PackageFile: srnadiff_1.28.0.tar.gz PackageFileSize: 2.487 MiB