Package: srnadiff Version: 1.28.0 Command: /Library/Frameworks/R.framework/Resources/bin/R CMD check --install=check:srnadiff.install-out.txt --library=/Library/Frameworks/R.framework/Resources/library --no-vignettes --timings srnadiff_1.28.0.tar.gz StartedAt: 2025-10-15 14:19:56 -0400 (Wed, 15 Oct 2025) EndedAt: 2025-10-15 14:29:31 -0400 (Wed, 15 Oct 2025) EllapsedTime: 575.1 seconds RetCode: 0 Status: WARNINGS CheckDir: srnadiff.Rcheck Warnings: 1