Package: srnadiff Version: 1.28.0 Command: /Library/Frameworks/R.framework/Resources/bin/R CMD build --keep-empty-dirs --no-resave-data srnadiff StartedAt: 2025-10-14 10:25:51 -0400 (Tue, 14 Oct 2025) EndedAt: 2025-10-14 10:28:28 -0400 (Tue, 14 Oct 2025) EllapsedTime: 157.5 seconds RetCode: 0 Status: OK PackageFile: srnadiff_1.28.0.tar.gz PackageFileSize: 2.425 MiB