Package: squallms Version: 1.2.0 Command: E:\biocbuild\bbs-3.21-bioc\R\bin\R.exe CMD check --no-multiarch --install=check:squallms.install-out.txt --library=E:\biocbuild\bbs-3.21-bioc\R\library --no-vignettes --timings squallms_1.2.0.tar.gz StartedAt: 2025-08-15 07:26:21 -0400 (Fri, 15 Aug 2025) EndedAt: 2025-08-15 07:36:37 -0400 (Fri, 15 Aug 2025) EllapsedTime: 615.3 seconds RetCode: 0 Status: OK CheckDir: squallms.Rcheck Warnings: 0