Package: squallms Version: 1.2.0 Command: chmod a+r squallms -R && E:\biocbuild\bbs-3.21-bioc\R\bin\R.exe CMD build --keep-empty-dirs --no-resave-data squallms StartedAt: 2025-08-14 22:31:26 -0400 (Thu, 14 Aug 2025) EndedAt: 2025-08-14 22:33:26 -0400 (Thu, 14 Aug 2025) EllapsedTime: 119.9 seconds RetCode: 0 Status: OK PackageFile: squallms_1.2.0.tar.gz PackageFileSize: 1.722 MiB