Package: squallms Version: 1.2.0 Command: /Library/Frameworks/R.framework/Resources/bin/R CMD INSTALL squallms StartedAt: 2025-10-13 16:21:18 -0400 (Mon, 13 Oct 2025) EndedAt: 2025-10-13 16:22:55 -0400 (Mon, 13 Oct 2025) EllapsedTime: 97.6 seconds RetCode: 0 Status: OK