Package: squallms Version: 1.2.0 Command: /Library/Frameworks/R.framework/Resources/bin/R CMD build --keep-empty-dirs --no-resave-data squallms StartedAt: 2025-10-13 23:01:02 -0400 (Mon, 13 Oct 2025) EndedAt: 2025-10-13 23:04:16 -0400 (Mon, 13 Oct 2025) EllapsedTime: 194.0 seconds RetCode: 0 Status: OK PackageFile: squallms_1.2.0.tar.gz PackageFileSize: 2.284 MiB