Package: squallms Version: 1.2.0 Command: rm -rf squallms.buildbin-libdir && mkdir squallms.buildbin-libdir && /Users/biocbuild/BBS/utils/build-universal.sh squallms_1.2.0.tar.gz /Library/Frameworks/R.framework/Resources/bin/R squallms.buildbin-libdir StartedAt: 2025-10-14 14:53:31 -0400 (Tue, 14 Oct 2025) EndedAt: 2025-10-14 14:55:20 -0400 (Tue, 14 Oct 2025) EllapsedTime: 108.7 seconds RetCode: 0 Status: OK PackageFile: squallms_1.2.0.tgz PackageFileSize: 1.787 MiB