Package: squallms Version: 1.2.0 Command: /Library/Frameworks/R.framework/Resources/bin/R CMD INSTALL squallms StartedAt: 2025-04-21 15:36:20 -0400 (Mon, 21 Apr 2025) EndedAt: 2025-04-21 15:36:21 -0400 (Mon, 21 Apr 2025) EllapsedTime: 1.3 seconds RetCode: 1 Status: ERROR