############################################################################## ############################################################################## ### ### Running command: ### ### /Library/Frameworks/R.framework/Resources/bin/R CMD build --keep-empty-dirs --no-resave-data squallms ### ############################################################################## ############################################################################## * checking for file ‘squallms/DESCRIPTION’ ... OK * preparing ‘squallms’: * checking DESCRIPTION meta-information ... OK * installing the package to build vignettes ----------------------------------- ERROR: dependency ‘xcms’ is not available for package ‘squallms’ Perhaps try a variation of: install.packages('xcms') * removing ‘/private/tmp/RtmpHCUQFR/Rinsteefd4a9e8ff9/squallms’ ----------------------------------- ERROR: package installation failed