Package: squallms Version: 1.2.0 Command: /home/biocbuild/R/R/bin/R CMD INSTALL squallms StartedAt: 2025-10-13 21:01:23 -0000 (Mon, 13 Oct 2025) EndedAt: 2025-10-13 21:02:28 -0000 (Mon, 13 Oct 2025) EllapsedTime: 64.9 seconds RetCode: 0 Status: OK