Package: squallms Version: 1.2.0 Command: /Library/Frameworks/R.framework/Resources/bin/R CMD check --install=check:squallms.install-out.txt --library=/Library/Frameworks/R.framework/Resources/library --no-vignettes --timings squallms_1.2.0.tar.gz StartedAt: 2025-10-15 14:17:54 -0400 (Wed, 15 Oct 2025) EndedAt: 2025-10-15 14:28:04 -0400 (Wed, 15 Oct 2025) EllapsedTime: 610.4 seconds RetCode: 0 Status: OK CheckDir: squallms.Rcheck Warnings: 0