Package: spoon Version: 1.4.0 Command: rm -rf spoon.buildbin-libdir && mkdir spoon.buildbin-libdir && /Users/biocbuild/BBS/utils/build-universal.sh spoon_1.4.0.tar.gz /Library/Frameworks/R.framework/Resources/bin/R spoon.buildbin-libdir StartedAt: 2025-10-14 14:52:51 -0400 (Tue, 14 Oct 2025) EndedAt: 2025-10-14 14:53:49 -0400 (Tue, 14 Oct 2025) EllapsedTime: 58.0 seconds RetCode: 0 Status: OK PackageFile: spoon_1.4.0.tgz PackageFileSize: 317.8 KiB