Package: spoon Version: 1.4.0 Command: /home/biocbuild/R/R/bin/R CMD check --install=check:spoon.install-out.txt --library=/home/biocbuild/R/R/site-library --no-vignettes --timings spoon_1.4.0.tar.gz StartedAt: 2025-10-14 14:50:03 -0000 (Tue, 14 Oct 2025) EndedAt: 2025-10-14 15:01:42 -0000 (Tue, 14 Oct 2025) EllapsedTime: 699.0 seconds RetCode: 0 Status: OK CheckDir: spoon.Rcheck Warnings: 0