Package: spoon Version: 1.4.0 Command: /home/biocbuild/R/R/bin/R CMD build --keep-empty-dirs --no-resave-data spoon StartedAt: 2025-10-14 05:04:36 -0000 (Tue, 14 Oct 2025) EndedAt: 2025-10-14 05:07:18 -0000 (Tue, 14 Oct 2025) EllapsedTime: 162.1 seconds RetCode: 0 Status: OK PackageFile: spoon_1.4.0.tar.gz PackageFileSize: 527.3 KiB