Package: splatter Version: 1.32.0 Command: /Library/Frameworks/R.framework/Resources/bin/R CMD INSTALL splatter StartedAt: 2025-04-21 15:22:02 -0400 (Mon, 21 Apr 2025) EndedAt: 2025-04-21 15:22:44 -0400 (Mon, 21 Apr 2025) EllapsedTime: 41.3 seconds RetCode: 0 Status: OK