Package: splatter Version: 1.32.0 Command: /Library/Frameworks/R.framework/Resources/bin/R CMD build --keep-empty-dirs --no-resave-data splatter StartedAt: 2025-04-21 18:35:20 -0400 (Mon, 21 Apr 2025) EndedAt: 2025-04-21 18:38:51 -0400 (Mon, 21 Apr 2025) EllapsedTime: 211.2 seconds RetCode: 0 Status: OK PackageFile: splatter_1.32.0.tar.gz PackageFileSize: 7.269 MiB