Package: spillR Version: 1.4.0 Command: /Library/Frameworks/R.framework/Resources/bin/R CMD check --install=check:spillR.install-out.txt --library=/Library/Frameworks/R.framework/Resources/library --no-vignettes --timings spillR_1.4.0.tar.gz StartedAt: 2025-10-14 10:59:04 -0400 (Tue, 14 Oct 2025) EndedAt: 2025-10-14 11:13:11 -0400 (Tue, 14 Oct 2025) EllapsedTime: 847.4 seconds RetCode: 0 Status: OK CheckDir: spillR.Rcheck Warnings: 0