Package: spillR Version: 1.4.0 Command: rm -rf spillR.buildbin-libdir && mkdir spillR.buildbin-libdir && /Users/biocbuild/BBS/utils/build-universal.sh spillR_1.4.0.tar.gz /Library/Frameworks/R.framework/Resources/bin/R spillR.buildbin-libdir StartedAt: 2025-10-14 14:52:35 -0400 (Tue, 14 Oct 2025) EndedAt: 2025-10-14 14:53:59 -0400 (Tue, 14 Oct 2025) EllapsedTime: 83.6 seconds RetCode: 0 Status: OK PackageFile: spillR_1.4.0.tgz PackageFileSize: 574.6 KiB