Package: spillR Version: 1.4.0 Command: /home/biocbuild/R/R/bin/R CMD INSTALL spillR StartedAt: 2025-10-13 21:16:18 -0000 (Mon, 13 Oct 2025) EndedAt: 2025-10-13 21:17:06 -0000 (Mon, 13 Oct 2025) EllapsedTime: 48.0 seconds RetCode: 0 Status: OK