Package: spillR Version: 1.4.0 Command: /home/biocbuild/R/R/bin/R CMD build --keep-empty-dirs --no-resave-data spillR StartedAt: 2025-10-14 05:01:25 -0000 (Tue, 14 Oct 2025) EndedAt: 2025-10-14 05:04:51 -0000 (Tue, 14 Oct 2025) EllapsedTime: 206.1 seconds RetCode: 0 Status: OK PackageFile: spillR_1.4.0.tar.gz PackageFileSize: 441.7 KiB