Package: spillR Version: 1.4.0 Command: /Library/Frameworks/R.framework/Resources/bin/R CMD INSTALL spillR StartedAt: 2025-04-21 15:29:38 -0400 (Mon, 21 Apr 2025) EndedAt: 2025-04-21 15:29:52 -0400 (Mon, 21 Apr 2025) EllapsedTime: 14.6 seconds RetCode: 0 Status: OK