Package: spillR Version: 1.4.0 Command: /Library/Frameworks/R.framework/Resources/bin/R CMD build --keep-empty-dirs --no-resave-data spillR StartedAt: 2025-09-26 09:59:59 -0400 (Fri, 26 Sep 2025) EndedAt: 2025-09-26 10:02:35 -0400 (Fri, 26 Sep 2025) EllapsedTime: 156.4 seconds RetCode: 0 Status: OK PackageFile: spillR_1.4.0.tar.gz PackageFileSize: 566.9 KiB