Package: spiky Version: 1.14.0 Command: /Library/Frameworks/R.framework/Resources/bin/R CMD build --keep-empty-dirs --no-resave-data spiky StartedAt: 2025-10-13 22:56:27 -0400 (Mon, 13 Oct 2025) EndedAt: 2025-10-13 22:59:45 -0400 (Mon, 13 Oct 2025) EllapsedTime: 198.0 seconds RetCode: 0 Status: OK PackageFile: spiky_1.14.0.tar.gz PackageFileSize: 14.31 MiB