Package: spiky Version: 1.14.0 Command: /Library/Frameworks/R.framework/Resources/bin/R CMD check --install=check:spiky.install-out.txt --library=/Library/Frameworks/R.framework/Resources/library --no-vignettes --timings spiky_1.14.0.tar.gz StartedAt: 2025-10-15 13:54:57 -0400 (Wed, 15 Oct 2025) EndedAt: 2025-10-15 14:01:14 -0400 (Wed, 15 Oct 2025) EllapsedTime: 376.7 seconds RetCode: 0 Status: OK CheckDir: spiky.Rcheck Warnings: 0