Package: spikeLI Version: 2.68.0 Command: /home/biocbuild/bbs-3.21-bioc/R/bin/R CMD INSTALL spikeLI StartedAt: 2025-10-01 15:05:40 -0400 (Wed, 01 Oct 2025) EndedAt: 2025-10-01 15:05:48 -0400 (Wed, 01 Oct 2025) EllapsedTime: 8.9 seconds RetCode: 0 Status: OK