Package: spikeLI Version: 2.68.0 Command: /Library/Frameworks/R.framework/Resources/bin/R CMD build --keep-empty-dirs --no-resave-data spikeLI StartedAt: 2025-09-30 10:07:45 -0400 (Tue, 30 Sep 2025) EndedAt: 2025-09-30 10:07:57 -0400 (Tue, 30 Sep 2025) EllapsedTime: 12.3 seconds RetCode: 0 Status: OK PackageFile: spikeLI_2.68.0.tar.gz PackageFileSize: 393.7 KiB