Package: spikeLI Version: 2.68.0 Command: rm -rf spikeLI.buildbin-libdir && mkdir spikeLI.buildbin-libdir && /Users/biocbuild/BBS/utils/build-universal.sh spikeLI_2.68.0.tar.gz /Library/Frameworks/R.framework/Resources/bin/R spikeLI.buildbin-libdir StartedAt: 2025-10-01 20:39:52 -0400 (Wed, 01 Oct 2025) EndedAt: 2025-10-01 20:39:57 -0400 (Wed, 01 Oct 2025) EllapsedTime: 4.6 seconds RetCode: 0 Status: OK PackageFile: spikeLI_2.68.0.tgz PackageFileSize: 418 KiB