Package: spicyR Version: 1.20.2 Command: chmod a+r spicyR -R && E:\biocbuild\bbs-3.21-bioc\R\bin\R.exe CMD build --keep-empty-dirs --no-resave-data spicyR StartedAt: 2025-08-14 22:27:26 -0400 (Thu, 14 Aug 2025) EndedAt: 2025-08-14 22:33:57 -0400 (Thu, 14 Aug 2025) EllapsedTime: 390.9 seconds RetCode: 0 Status: OK PackageFile: spicyR_1.20.2.tar.gz PackageFileSize: 2.557 MiB