Package: spicyR Version: 1.20.2 Command: rm -rf spicyR.buildbin-libdir && mkdir spicyR.buildbin-libdir && E:\biocbuild\bbs-3.21-bioc\R\bin\R.exe CMD INSTALL --build --library=spicyR.buildbin-libdir spicyR_1.20.2.tar.gz StartedAt: 2025-08-15 10:23:24 -0400 (Fri, 15 Aug 2025) EndedAt: 2025-08-15 10:24:20 -0400 (Fri, 15 Aug 2025) EllapsedTime: 55.8 seconds RetCode: 0 Status: OK PackageFile: spicyR_1.20.2.zip PackageFileSize: 3.1 MiB