Package: speckle Version: 1.8.0 Command: rm -rf speckle.buildbin-libdir && mkdir speckle.buildbin-libdir && /Users/biocbuild/BBS/utils/build-universal.sh speckle_1.8.0.tar.gz /Library/Frameworks/R.framework/Resources/bin/R speckle.buildbin-libdir StartedAt: 2025-04-22 01:11:03 -0400 (Tue, 22 Apr 2025) EndedAt: 2025-04-22 01:11:55 -0400 (Tue, 22 Apr 2025) EllapsedTime: 52.2 seconds RetCode: 0 Status: OK PackageFile: speckle_1.8.0.tgz PackageFileSize: 1.416 MiB