Package: speckle Version: 1.8.0 Command: /home/biocbuild/R/R/bin/R CMD check --install=check:speckle.install-out.txt --library=/home/biocbuild/R/R/site-library --no-vignettes --timings speckle_1.8.0.tar.gz StartedAt: 2025-10-14 14:41:35 -0000 (Tue, 14 Oct 2025) EndedAt: 2025-10-14 14:48:06 -0000 (Tue, 14 Oct 2025) EllapsedTime: 390.6 seconds RetCode: 0 Status: OK CheckDir: speckle.Rcheck Warnings: 0