Package: speckle Version: 1.8.0 Command: /Library/Frameworks/R.framework/Resources/bin/R CMD build --keep-empty-dirs --no-resave-data speckle StartedAt: 2025-10-14 10:08:33 -0400 (Tue, 14 Oct 2025) EndedAt: 2025-10-14 10:10:25 -0400 (Tue, 14 Oct 2025) EllapsedTime: 111.8 seconds RetCode: 0 Status: OK PackageFile: speckle_1.8.0.tar.gz PackageFileSize: 1.445 MiB