Package: spatialHeatmap Version: 2.14.1 Command: /home/biocbuild/bbs-3.21-bioc/R/bin/R CMD check --install=check:spatialHeatmap.install-out.txt --library=/home/biocbuild/bbs-3.21-bioc/R/site-library --timings spatialHeatmap_2.14.1.tar.gz StartedAt: 2025-10-16 03:55:41 -0400 (Thu, 16 Oct 2025) EndedAt: 2025-10-16 04:06:22 -0400 (Thu, 16 Oct 2025) EllapsedTime: 640.8 seconds RetCode: 0 Status: OK CheckDir: spatialHeatmap.Rcheck Warnings: 0