Package: spatialFDA Version: 1.0.0 Command: chmod a+r spatialFDA -R && E:\biocbuild\bbs-3.21-bioc\R\bin\R.exe CMD build --keep-empty-dirs --no-resave-data spatialFDA StartedAt: 2025-08-14 22:24:57 -0400 (Thu, 14 Aug 2025) EndedAt: 2025-08-14 22:28:26 -0400 (Thu, 14 Aug 2025) EllapsedTime: 209.5 seconds RetCode: 0 Status: OK PackageFile: spatialFDA_1.0.0.tar.gz PackageFileSize: 721.3 KiB