Package: spatialFDA Version: 1.0.0 Command: /home/biocbuild/bbs-3.21-bioc/R/bin/R CMD INSTALL spatialFDA StartedAt: 2025-10-15 15:26:40 -0400 (Wed, 15 Oct 2025) EndedAt: 2025-10-15 15:27:12 -0400 (Wed, 15 Oct 2025) EllapsedTime: 32.8 seconds RetCode: 0 Status: OK