Package: spatialFDA Version: 1.0.0 Command: /home/biocbuild/bbs-3.21-bioc/R/bin/R CMD check --install=check:spatialFDA.install-out.txt --library=/home/biocbuild/bbs-3.21-bioc/R/site-library --timings spatialFDA_1.0.0.tar.gz StartedAt: 2025-10-16 03:55:25 -0400 (Thu, 16 Oct 2025) EndedAt: 2025-10-16 04:05:29 -0400 (Thu, 16 Oct 2025) EllapsedTime: 603.8 seconds RetCode: 0 Status: OK CheckDir: spatialFDA.Rcheck Warnings: 0