Package: spatialFDA Version: 1.0.0 Command: /home/biocbuild/R/R/bin/R CMD INSTALL spatialFDA StartedAt: 2025-10-13 20:41:51 -0000 (Mon, 13 Oct 2025) EndedAt: 2025-10-13 20:42:39 -0000 (Mon, 13 Oct 2025) EllapsedTime: 48.1 seconds RetCode: 0 Status: OK