Package: sparsenetgls Version: 1.26.0 Command: E:\biocbuild\bbs-3.21-bioc\R\bin\R.exe CMD INSTALL sparsenetgls StartedAt: 2025-08-14 15:25:18 -0400 (Thu, 14 Aug 2025) EndedAt: 2025-08-14 15:26:07 -0400 (Thu, 14 Aug 2025) EllapsedTime: 48.6 seconds RetCode: 0 Status: OK