Package: sparsenetgls Version: 1.26.0 Command: /home/biocbuild/bbs-3.21-bioc/R/bin/R CMD build --keep-empty-dirs --no-resave-data sparsenetgls StartedAt: 2025-10-05 20:03:42 -0400 (Sun, 05 Oct 2025) EndedAt: 2025-10-05 20:06:47 -0400 (Sun, 05 Oct 2025) EllapsedTime: 185.1 seconds RetCode: 0 Status: OK PackageFile: sparsenetgls_1.26.0.tar.gz PackageFileSize: 642.5 KiB