Package: sparsenetgls Version: 1.26.0 Command: /Library/Frameworks/R.framework/Resources/bin/R CMD build --keep-empty-dirs --no-resave-data sparsenetgls StartedAt: 2025-10-02 22:51:50 -0400 (Thu, 02 Oct 2025) EndedAt: 2025-10-02 22:56:20 -0400 (Thu, 02 Oct 2025) EllapsedTime: 270.1 seconds RetCode: 0 Status: OK PackageFile: sparsenetgls_1.26.0.tar.gz PackageFileSize: 668.5 KiB