Package: sparsenetgls Version: 1.26.0 Command: /Library/Frameworks/R.framework/Resources/bin/R CMD INSTALL sparsenetgls StartedAt: 2025-10-02 15:18:50 -0400 (Thu, 02 Oct 2025) EndedAt: 2025-10-02 15:18:57 -0400 (Thu, 02 Oct 2025) EllapsedTime: 6.9 seconds RetCode: 0 Status: OK