Package: sparsenetgls Version: 1.26.0 Command: /Library/Frameworks/R.framework/Resources/bin/R CMD build --keep-empty-dirs --no-resave-data sparsenetgls StartedAt: 2025-10-03 09:52:58 -0400 (Fri, 03 Oct 2025) EndedAt: 2025-10-03 09:59:20 -0400 (Fri, 03 Oct 2025) EllapsedTime: 382.2 seconds RetCode: 0 Status: OK PackageFile: sparsenetgls_1.26.0.tar.gz PackageFileSize: 596.1 KiB