Package: sparsenetgls Version: 1.26.0 Maintainer: Irene Zeng MaintainerEmail: szen003 at aucklanduni.ac.nz git_url: https://git.bioconductor.org/packages/sparsenetgls git_branch: RELEASE_3_21 git_last_commit: f5f7053 git_last_commit_date: 2025-04-15 11:37:07 -0400 (Tue, 15 Apr 2025)